BEGIN:VCALENDAR
VERSION:2.0
PRODID:-//Squarespace Inc/Squarespace 6//v6//EN
BEGIN:VEVENT
UID:5a67ec39e2c4831726656254@squarespace.com
DTSTAMP:20180124T023002Z
DTSTART:20180930T190000Z
DTEND:20180930T203000Z
SUMMARY:ENSEMBLE Q - Concert 4
GEO:-27.481694;153.024235
LOCATION:Conservatorium Theatre\, Griffith University\, 226 Grey Street\, S
 outh Brisbane\, QLD\, 4101\, Australia
END:VEVENT
END:VCALENDAR
