BEGIN:VCALENDAR
VERSION:2.0
PRODID:-//Squarespace Inc/Squarespace 6//v6//EN
BEGIN:VEVENT
UID:5b9226e38a922d993d81d4bd@squarespace.com
DTSTAMP:20180907T072346Z
DTSTART:20180922T073000Z
DTEND:20180923T083000Z
SUMMARY:Festival of Death and Dying
GEO:-33.872998;151.234906
LOCATION:Drill Hall\, 1C New Beach Road\, Darling Point\, NSW\, 2027\, Aust
 ralia
END:VEVENT
END:VCALENDAR
