BEGIN:VCALENDAR
VERSION:2.0
PRODID:-//Squarespace Inc/Squarespace 6//v6//EN
BEGIN:VEVENT
UID:5ad06afd758d4672dc355863@squarespace.com
DTSTAMP:20180413T223741Z
DTSTART:20180505T000000Z
DTEND:20180505T030000Z
SUMMARY:The Experiment
GEO:-33.878351;151.216142
LOCATION:ESCAC (Brand X)\, 34-40 Burton St\,\, Darlinghurst\, NSW 2010
END:VEVENT
END:VCALENDAR
