BEGIN:VCALENDAR
VERSION:2.0
PRODID:-//Squarespace Inc/Squarespace 6//v6//EN
BEGIN:VEVENT
UID:5aa9ff6eec212de9ab305c4e@squarespace.com
DTSTAMP:20180319T215143Z
DTSTART:20180321T230000Z
DTEND:20180322T010000Z
SUMMARY:Big Muscles\, Sad Heart
GEO:-33.905893;151.166788
LOCATION:Swamp Gallery\, 102 Victoria Road\, Marrickville\, NSW\, 2204\, Au
 stralia
END:VEVENT
END:VCALENDAR
