BEGIN:VCALENDAR
VERSION:2.0
PRODID:-//Squarespace Inc/Squarespace 6//v6//EN
BEGIN:VEVENT
UID:5b4d34df70a6ad5ccfe6fe7e@squarespace.com
DTSTAMP:20180717T002017Z
DTSTART:20181124T010000Z
DTEND:20181125T023000Z
SUMMARY:Remote Control
GEO:-33.87834;151.216025
LOCATION:ESCAC\, 34 Burton Street\, Darlinghurst\, NSW\, 2010\, Australia
END:VEVENT
END:VCALENDAR
