BEGIN:VCALENDAR
VERSION:2.0
PRODID:-//Squarespace Inc/Squarespace 6//v6//EN
BEGIN:VEVENT
UID:5986729e3e00bec843c7accb@squarespace.com
DTSTAMP:20170806T014121Z
DTSTART:20170826T200000Z
DTEND:20170826T220000Z
SUMMARY:Arts Initiative Australia - Launch
GEO:-33.868701;151.225361
LOCATION:Yellow House\, 57-59 MacLeay Street\, Potts Point\, NSW\, 2011\, A
 ustralia
END:VEVENT
END:VCALENDAR
