BEGIN:VCALENDAR
VERSION:2.0
PRODID:-//Squarespace Inc/Squarespace 6//v6//EN
BEGIN:VEVENT
UID:598673c917bffc6a2715e7b8@squarespace.com
DTSTAMP:20170806T015340Z
DTSTART:20170819T220000Z
DTEND:20170819T230000Z
SUMMARY:Showing - Strut Andrew Morrish and Humphrey Bower workshop 
GEO:-31.949845;115.859451
LOCATION:State Theatre of WA\, 174-176 William Street\, Perth\, WA\, 6000\, 
 Australia
END:VEVENT
END:VCALENDAR
