BEGIN:VCALENDAR
VERSION:2.0
PRODID:-//Squarespace Inc/Squarespace 6//v6//EN
BEGIN:VEVENT
UID:58d3191f2e69cfe8632d56b8@squarespace.com
DTSTAMP:20170328T010818Z
DTSTART:20170610T230000Z
DTEND:20170624T000000Z
SUMMARY:THE SONG COMPANY - FORWARD & BACH
END:VEVENT
END:VCALENDAR
