BEGIN:VCALENDAR
VERSION:2.0
PRODID:-//Squarespace Inc/Squarespace 6//v6//EN
BEGIN:VEVENT
UID:58d317e5cd0f6814388160a6@squarespace.com
DTSTAMP:20170328T010647Z
DTSTART:20170507T020000Z
DTEND:20170507T033000Z
SUMMARY:ALICIA CROSSLEY - FRAGMENTS
GEO:-37.82391;144.967497
LOCATION:Melbourne Recital Centre\, 31 Sturt Street\, Southbank\, VIC\, 300
 6\, Australia
END:VEVENT
END:VCALENDAR
