BEGIN:VCALENDAR
VERSION:2.0
PRODID:-//Squarespace Inc/Squarespace 6//v6//EN
BEGIN:VEVENT
UID:58d3189437c581e7ff985076@squarespace.com
DTSTAMP:20170328T010739Z
DTSTART:20170517T230000Z
DTEND:20170520T003000Z
SUMMARY:AUSTRALIAN ART QUARTET - SPACIAL CONTEMPLATION
GEO:-33.868701;151.225361
LOCATION:Yellow House\, 57-59 MacLeay Street\, Potts Point\, NSW\, 2011\, A
 ustralia
END:VEVENT
END:VCALENDAR
