BEGIN:VCALENDAR
VERSION:2.0
PRODID:-//Squarespace Inc/Squarespace 6//v6//EN
BEGIN:VEVENT
UID:58d319936a496376daad80ff@squarespace.com
DTSTAMP:20170323T005046Z
DTSTART:20170724T130000Z
DTEND:20170725T183000Z
SUMMARY:AUSTRALIAN COMPOSITION SEMINAR
GEO:-33.877462;151.095206
LOCATION:Santa Sabina College\, 90 The Boulevarde\, Strathfield\, NSW\, 213
 5\, Australia
END:VEVENT
END:VCALENDAR
